BEGIN:VCALENDAR
VERSION:2.0
PRODID:-//New Albany Links Golf Club - ECPv6.15.18//NONSGML v1.0//EN
CALSCALE:GREGORIAN
METHOD:PUBLISH
X-WR-CALNAME:New Albany Links Golf Club
X-ORIGINAL-URL:https://www.newalbanylinks.com
X-WR-CALDESC:Events for New Albany Links Golf Club
REFRESH-INTERVAL;VALUE=DURATION:PT1H
X-Robots-Tag:noindex
X-PUBLISHED-TTL:PT1H
BEGIN:VTIMEZONE
TZID:America/New_York
BEGIN:DAYLIGHT
TZOFFSETFROM:-0500
TZOFFSETTO:-0400
TZNAME:EDT
DTSTART:20240310T070000
END:DAYLIGHT
BEGIN:STANDARD
TZOFFSETFROM:-0400
TZOFFSETTO:-0500
TZNAME:EST
DTSTART:20241103T060000
END:STANDARD
BEGIN:DAYLIGHT
TZOFFSETFROM:-0500
TZOFFSETTO:-0400
TZNAME:EDT
DTSTART:20250309T070000
END:DAYLIGHT
BEGIN:STANDARD
TZOFFSETFROM:-0400
TZOFFSETTO:-0500
TZNAME:EST
DTSTART:20251102T060000
END:STANDARD
BEGIN:DAYLIGHT
TZOFFSETFROM:-0500
TZOFFSETTO:-0400
TZNAME:EDT
DTSTART:20260308T070000
END:DAYLIGHT
BEGIN:STANDARD
TZOFFSETFROM:-0400
TZOFFSETTO:-0500
TZNAME:EST
DTSTART:20261101T060000
END:STANDARD
END:VTIMEZONE
BEGIN:VEVENT
DTSTART;VALUE=DATE:20250502
DTEND;VALUE=DATE:20250505
DTSTAMP:20260425T102202
CREATED:20250429T162516Z
LAST-MODIFIED:20250429T190032Z
UID:10001168-1746144000-1746403199@www.newalbanylinks.com
SUMMARY:New Albany Links Weekly May Pub Specials
DESCRIPTION:
URL:https://www.newalbanylinks.com/event/new-albany-links-weekly-may-pub-specials/2025-05-02/
CATEGORIES:Pub
END:VEVENT
BEGIN:VEVENT
DTSTART;VALUE=DATE:20250505
DTEND;VALUE=DATE:20250506
DTSTAMP:20260425T102202
CREATED:20250429T163103Z
LAST-MODIFIED:20250429T190927Z
UID:10001339-1746403200-1746489599@www.newalbanylinks.com
SUMMARY:Cinco De Mayo- Pub Specials
DESCRIPTION:
URL:https://www.newalbanylinks.com/event/cinco-de-mayo-pub-specials/
CATEGORIES:Pub
END:VEVENT
BEGIN:VEVENT
DTSTART;TZID=America/New_York:20250505T160000
DTEND;TZID=America/New_York:20250505T180000
DTSTAMP:20260425T102202
CREATED:20250205T174404Z
LAST-MODIFIED:20250205T174404Z
UID:10001031-1746460800-1746468000@www.newalbanylinks.com
SUMMARY:Monday Night League- Prior Registration Required
DESCRIPTION:New Albany Links’ Monday Night League \n  \nLooking for a fun league to join this year? We’ve got you covered! Sign up for our upcoming Monday Night League starting on April 14th at New Albany Links. \n  \n  \nDate: Monday Nights starting April 14th for 16 weeks (not including holiday Mondays) \nTime: Tee Times Start at 4:00 pm \nFormat: 2-Man Best Ball \nCost: $532 Per Player ($232 Per Columbus Collective Members) \nIncludes: Cart\, Prizes\, and End-of-Season Dinner \n-Weekly Skills Games & Optional Skins will be available \n-USGA Handicaps are preferred but not required \n  \nClick HERE to get registered. \n  \nElevate your golf game and join the camaraderie at New Albany Links Monday Night League – register now for an unforgettable golfing experience! \n 
URL:https://www.newalbanylinks.com/event/monday-night-league-prior-registration-required/2025-05-05/
CATEGORIES:Golf
ATTACH;FMTTYPE=image/jpeg:https://www.newalbanylinks.com/wp-content/uploads/sites/8864/2025/02/golfer-.jpg
END:VEVENT
BEGIN:VEVENT
DTSTART;VALUE=DATE:20250509
DTEND;VALUE=DATE:20250512
DTSTAMP:20260425T102202
CREATED:20250429T162516Z
LAST-MODIFIED:20250429T190032Z
UID:10001171-1746748800-1747007999@www.newalbanylinks.com
SUMMARY:New Albany Links Weekly May Pub Specials
DESCRIPTION:
URL:https://www.newalbanylinks.com/event/new-albany-links-weekly-may-pub-specials/2025-05-09/
CATEGORIES:Pub
END:VEVENT
BEGIN:VEVENT
DTSTART;TZID=America/New_York:20250511T100000
DTEND;TZID=America/New_York:20250511T120000
DTSTAMP:20260425T102202
CREATED:20250426T113330Z
LAST-MODIFIED:20250426T113330Z
UID:10001167-1746957600-1746964800@www.newalbanylinks.com
SUMMARY:Mother's Day Brunch- Open to Members & Non-Members
DESCRIPTION:
URL:https://www.newalbanylinks.com/event/mothers-day-brunch-open-to-members-non-members/
CATEGORIES:Events
ATTACH;FMTTYPE=image/jpeg:https://www.newalbanylinks.com/wp-content/uploads/sites/8864/2025/04/Mothers-Day-Brunch-2025.jpg
END:VEVENT
BEGIN:VEVENT
DTSTART;TZID=America/New_York:20250512T160000
DTEND;TZID=America/New_York:20250512T180000
DTSTAMP:20260425T102202
CREATED:20250205T174404Z
LAST-MODIFIED:20250205T174404Z
UID:10001032-1747065600-1747072800@www.newalbanylinks.com
SUMMARY:Monday Night League- Prior Registration Required
DESCRIPTION:New Albany Links’ Monday Night League \n  \nLooking for a fun league to join this year? We’ve got you covered! Sign up for our upcoming Monday Night League starting on April 14th at New Albany Links. \n  \n  \nDate: Monday Nights starting April 14th for 16 weeks (not including holiday Mondays) \nTime: Tee Times Start at 4:00 pm \nFormat: 2-Man Best Ball \nCost: $532 Per Player ($232 Per Columbus Collective Members) \nIncludes: Cart\, Prizes\, and End-of-Season Dinner \n-Weekly Skills Games & Optional Skins will be available \n-USGA Handicaps are preferred but not required \n  \nClick HERE to get registered. \n  \nElevate your golf game and join the camaraderie at New Albany Links Monday Night League – register now for an unforgettable golfing experience! \n 
URL:https://www.newalbanylinks.com/event/monday-night-league-prior-registration-required/2025-05-12/
CATEGORIES:Golf
ATTACH;FMTTYPE=image/jpeg:https://www.newalbanylinks.com/wp-content/uploads/sites/8864/2025/02/golfer-.jpg
END:VEVENT
BEGIN:VEVENT
DTSTART;VALUE=DATE:20250516
DTEND;VALUE=DATE:20250519
DTSTAMP:20260425T102202
CREATED:20250429T162516Z
LAST-MODIFIED:20250429T190032Z
UID:10001174-1747353600-1747612799@www.newalbanylinks.com
SUMMARY:New Albany Links Weekly May Pub Specials
DESCRIPTION:
URL:https://www.newalbanylinks.com/event/new-albany-links-weekly-may-pub-specials/2025-05-16/
CATEGORIES:Pub
END:VEVENT
BEGIN:VEVENT
DTSTART;TZID=America/New_York:20250519T160000
DTEND;TZID=America/New_York:20250519T180000
DTSTAMP:20260425T102202
CREATED:20250205T174404Z
LAST-MODIFIED:20250205T174404Z
UID:10001033-1747670400-1747677600@www.newalbanylinks.com
SUMMARY:Monday Night League- Prior Registration Required
DESCRIPTION:New Albany Links’ Monday Night League \n  \nLooking for a fun league to join this year? We’ve got you covered! Sign up for our upcoming Monday Night League starting on April 14th at New Albany Links. \n  \n  \nDate: Monday Nights starting April 14th for 16 weeks (not including holiday Mondays) \nTime: Tee Times Start at 4:00 pm \nFormat: 2-Man Best Ball \nCost: $532 Per Player ($232 Per Columbus Collective Members) \nIncludes: Cart\, Prizes\, and End-of-Season Dinner \n-Weekly Skills Games & Optional Skins will be available \n-USGA Handicaps are preferred but not required \n  \nClick HERE to get registered. \n  \nElevate your golf game and join the camaraderie at New Albany Links Monday Night League – register now for an unforgettable golfing experience! \n 
URL:https://www.newalbanylinks.com/event/monday-night-league-prior-registration-required/2025-05-19/
CATEGORIES:Golf
ATTACH;FMTTYPE=image/jpeg:https://www.newalbanylinks.com/wp-content/uploads/sites/8864/2025/02/golfer-.jpg
END:VEVENT
BEGIN:VEVENT
DTSTART;VALUE=DATE:20250523
DTEND;VALUE=DATE:20250526
DTSTAMP:20260425T102202
CREATED:20250429T162516Z
LAST-MODIFIED:20250429T190032Z
UID:10001177-1747958400-1748217599@www.newalbanylinks.com
SUMMARY:New Albany Links Weekly May Pub Specials
DESCRIPTION:
URL:https://www.newalbanylinks.com/event/new-albany-links-weekly-may-pub-specials/2025-05-23/
CATEGORIES:Pub
END:VEVENT
BEGIN:VEVENT
DTSTART;VALUE=DATE:20250524
DTEND;VALUE=DATE:20250525
DTSTAMP:20260425T102202
CREATED:20250408T191040Z
LAST-MODIFIED:20250408T191040Z
UID:10001064-1748044800-1748131199@www.newalbanylinks.com
SUMMARY:Pool Opening Day
DESCRIPTION:Save the date\, more details to come.
URL:https://www.newalbanylinks.com/event/pool-opening-day/
LOCATION:New Albany Links
END:VEVENT
BEGIN:VEVENT
DTSTART;TZID=America/New_York:20250526T110000
DTEND;TZID=America/New_York:20250526T140000
DTSTAMP:20260425T102202
CREATED:20250408T191225Z
LAST-MODIFIED:20250429T165127Z
UID:10001065-1748257200-1748268000@www.newalbanylinks.com
SUMMARY:Memorial Day Picnic- Member & Member Guests Only
DESCRIPTION:Kick Off Summer at New Albany Links! \nWe’re firing up the grill and celebrating the start of the season with our Annual Member Cookout — and you’re invited! \n📅 Monday\, May 26th\, 2025🕚 11:00 AM – 2:00 PM | Under the Tent \nEnjoy an afternoon of great food and community fun featuring:• Pool opens at 11:00 AM• Bounce House• Cookout Buffet• Refreshments & Cash Bar \nThis event is complimentary for social members and their guests only.Guest fee: $15 at check-in. \nPlease RSVP to Shannon at sriffe@kempersports.com \nLet’s make it a Memorial Day to remember — we can’t wait to see you there!
URL:https://www.newalbanylinks.com/event/memorial-day-picnic/
LOCATION:New Albany Links
CATEGORIES:Events,Member Only
ATTACH;FMTTYPE=image/jpeg:https://www.newalbanylinks.com/wp-content/uploads/sites/8864/2025/04/NAL-Member-Cookout-2025-1.jpg
END:VEVENT
BEGIN:VEVENT
DTSTART;VALUE=DATE:20250530
DTEND;VALUE=DATE:20250602
DTSTAMP:20260425T102202
CREATED:20250429T162516Z
LAST-MODIFIED:20250429T190032Z
UID:10001180-1748563200-1748822399@www.newalbanylinks.com
SUMMARY:New Albany Links Weekly May Pub Specials
DESCRIPTION:
URL:https://www.newalbanylinks.com/event/new-albany-links-weekly-may-pub-specials/2025-05-30/
CATEGORIES:Pub
END:VEVENT
END:VCALENDAR