BEGIN:VCALENDAR
VERSION:2.0
PRODID:-//New Albany Links Golf Club - ECPv6.15.18//NONSGML v1.0//EN
CALSCALE:GREGORIAN
METHOD:PUBLISH
X-WR-CALNAME:New Albany Links Golf Club
X-ORIGINAL-URL:https://www.newalbanylinks.com
X-WR-CALDESC:Events for New Albany Links Golf Club
REFRESH-INTERVAL;VALUE=DURATION:PT1H
X-Robots-Tag:noindex
X-PUBLISHED-TTL:PT1H
BEGIN:VTIMEZONE
TZID:America/New_York
BEGIN:DAYLIGHT
TZOFFSETFROM:-0500
TZOFFSETTO:-0400
TZNAME:EDT
DTSTART:20240310T070000
END:DAYLIGHT
BEGIN:STANDARD
TZOFFSETFROM:-0400
TZOFFSETTO:-0500
TZNAME:EST
DTSTART:20241103T060000
END:STANDARD
BEGIN:DAYLIGHT
TZOFFSETFROM:-0500
TZOFFSETTO:-0400
TZNAME:EDT
DTSTART:20250309T070000
END:DAYLIGHT
BEGIN:STANDARD
TZOFFSETFROM:-0400
TZOFFSETTO:-0500
TZNAME:EST
DTSTART:20251102T060000
END:STANDARD
BEGIN:DAYLIGHT
TZOFFSETFROM:-0500
TZOFFSETTO:-0400
TZNAME:EDT
DTSTART:20260308T070000
END:DAYLIGHT
BEGIN:STANDARD
TZOFFSETFROM:-0400
TZOFFSETTO:-0500
TZNAME:EST
DTSTART:20261101T060000
END:STANDARD
END:VTIMEZONE
BEGIN:VEVENT
DTSTART;TZID=America/New_York:20250228T160000
DTEND;TZID=America/New_York:20250302T210000
DTSTAMP:20260425T132317
CREATED:20250204T222614Z
LAST-MODIFIED:20250204T222614Z
UID:10001026-1740758400-1740949200@www.newalbanylinks.com
SUMMARY:Weekly Pub Specials
DESCRIPTION:
URL:https://www.newalbanylinks.com/event/weekly-pub-specials/2025-02-28/
CATEGORIES:Pub
END:VEVENT
BEGIN:VEVENT
DTSTART;TZID=America/New_York:20250307T080000
DTEND;TZID=America/New_York:20250309T170000
DTSTAMP:20260425T132317
CREATED:20250301T235618Z
LAST-MODIFIED:20250301T235646Z
UID:10001047-1741334400-1741539600@www.newalbanylinks.com
SUMMARY:Weekly Pub Specials
DESCRIPTION:
URL:https://www.newalbanylinks.com/event/weekly-pub-specials-2/2025-03-07/
CATEGORIES:Pub
END:VEVENT
BEGIN:VEVENT
DTSTART;TZID=America/New_York:20250307T110000
DTEND;TZID=America/New_York:20250307T200000
DTSTAMP:20260425T132317
CREATED:20250303T102515Z
LAST-MODIFIED:20250303T102542Z
UID:10001051-1741345200-1741377600@www.newalbanylinks.com
SUMMARY:Fish Fry Fridays- Open to Non-Members & Members
DESCRIPTION:
URL:https://www.newalbanylinks.com/event/fish-fry-fridays/2025-03-07/
CATEGORIES:Pub
ATTACH;FMTTYPE=image/jpeg:https://www.newalbanylinks.com/wp-content/uploads/sites/8864/2025/03/NAL-Fish-Fry-Fridays.jpg
END:VEVENT
BEGIN:VEVENT
DTSTART;TZID=America/New_York:20250314T080000
DTEND;TZID=America/New_York:20250316T160000
DTSTAMP:20260425T132317
CREATED:20250301T235618Z
LAST-MODIFIED:20250301T235646Z
UID:10001048-1741939200-1742140800@www.newalbanylinks.com
SUMMARY:Weekly Pub Specials
DESCRIPTION:
URL:https://www.newalbanylinks.com/event/weekly-pub-specials-2/2025-03-14/
CATEGORIES:Pub
END:VEVENT
BEGIN:VEVENT
DTSTART;TZID=America/New_York:20250314T110000
DTEND;TZID=America/New_York:20250314T200000
DTSTAMP:20260425T132317
CREATED:20250303T102515Z
LAST-MODIFIED:20250303T102542Z
UID:10001052-1741950000-1741982400@www.newalbanylinks.com
SUMMARY:Fish Fry Fridays- Open to Non-Members & Members
DESCRIPTION:
URL:https://www.newalbanylinks.com/event/fish-fry-fridays/2025-03-14/
CATEGORIES:Pub
ATTACH;FMTTYPE=image/jpeg:https://www.newalbanylinks.com/wp-content/uploads/sites/8864/2025/03/NAL-Fish-Fry-Fridays.jpg
END:VEVENT
BEGIN:VEVENT
DTSTART;TZID=America/New_York:20250314T173000
DTEND;TZID=America/New_York:20250314T173000
DTSTAMP:20260425T132317
CREATED:20250217T155357Z
LAST-MODIFIED:20250217T155357Z
UID:10001045-1741973400-1741973400@www.newalbanylinks.com
SUMMARY:Bingo Night
DESCRIPTION:Join us for a night of fun and games at our Bingo Night! Get ready to shout “Bingo” as we play for exciting prizes all night long \nDate: Friday\, March 14th \nTime: 5:30pm
URL:https://www.newalbanylinks.com/event/bingo-night-2/
LOCATION:New Albany Links
ATTACH;FMTTYPE=image/png:https://www.newalbanylinks.com/wp-content/uploads/sites/8864/2025/02/BINGO_314.png
END:VEVENT
BEGIN:VEVENT
DTSTART;TZID=America/New_York:20250316T130000
DTEND;TZID=America/New_York:20250316T150000
DTSTAMP:20260425T132317
CREATED:20250204T202845Z
LAST-MODIFIED:20250204T203205Z
UID:10001022-1742130000-1742137200@www.newalbanylinks.com
SUMMARY:A Magical Day with Moana | $15 Per Person  | March 16th\, 2025
DESCRIPTION:New Albany Links- Moana Family Event \nA Magical Afternoon with Moana! Get ready for a singing and dancing extravaganza\, delicious treats\, and endless fun—because the ocean is calling! \nDate: Sunday\, March 16th\, 2025 \nTime: 1:00 pm- 3:00 pm \nLocation: New Albany Links Golf Club \nCost: $15 Per Person (inclusive of tax and service charge) \nIncludes:  Refreshments\, Cupcakes\, A Photo Backdrop\, and a Singing & Dancing Extravaganza by Moana! \nRegistration: Register online at NewAlbanyLinks.Com. This event is open to members and non-members. \nClick HERE to register. \nSecure your spot today at NewAlbanyLinks.com—this adventure is open to members and non-members! 🌊🎶
URL:https://www.newalbanylinks.com/event/a-magical-day-with-moana-15-per-person-march-16th-2025/
CATEGORIES:Events
ATTACH;FMTTYPE=image/jpeg:https://www.newalbanylinks.com/wp-content/uploads/sites/8864/2025/02/Moana-No-QR.jpg
END:VEVENT
BEGIN:VEVENT
DTSTART;TZID=America/New_York:20250321T080000
DTEND;TZID=America/New_York:20250323T160000
DTSTAMP:20260425T132317
CREATED:20250301T235618Z
LAST-MODIFIED:20250301T235646Z
UID:10001049-1742544000-1742745600@www.newalbanylinks.com
SUMMARY:Weekly Pub Specials
DESCRIPTION:
URL:https://www.newalbanylinks.com/event/weekly-pub-specials-2/2025-03-21/
CATEGORIES:Pub
END:VEVENT
BEGIN:VEVENT
DTSTART;TZID=America/New_York:20250321T110000
DTEND;TZID=America/New_York:20250321T200000
DTSTAMP:20260425T132317
CREATED:20250303T102515Z
LAST-MODIFIED:20250303T102542Z
UID:10001053-1742554800-1742587200@www.newalbanylinks.com
SUMMARY:Fish Fry Fridays- Open to Non-Members & Members
DESCRIPTION:
URL:https://www.newalbanylinks.com/event/fish-fry-fridays/2025-03-21/
CATEGORIES:Pub
ATTACH;FMTTYPE=image/jpeg:https://www.newalbanylinks.com/wp-content/uploads/sites/8864/2025/03/NAL-Fish-Fry-Fridays.jpg
END:VEVENT
BEGIN:VEVENT
DTSTART;TZID=America/New_York:20250328T080000
DTEND;TZID=America/New_York:20250330T160000
DTSTAMP:20260425T132317
CREATED:20250301T235618Z
LAST-MODIFIED:20250301T235646Z
UID:10001050-1743148800-1743350400@www.newalbanylinks.com
SUMMARY:Weekly Pub Specials
DESCRIPTION:
URL:https://www.newalbanylinks.com/event/weekly-pub-specials-2/2025-03-28/
CATEGORIES:Pub
END:VEVENT
BEGIN:VEVENT
DTSTART;TZID=America/New_York:20250328T110000
DTEND;TZID=America/New_York:20250328T200000
DTSTAMP:20260425T132317
CREATED:20250303T102515Z
LAST-MODIFIED:20250303T102542Z
UID:10001054-1743159600-1743192000@www.newalbanylinks.com
SUMMARY:Fish Fry Fridays- Open to Non-Members & Members
DESCRIPTION:
URL:https://www.newalbanylinks.com/event/fish-fry-fridays/2025-03-28/
CATEGORIES:Pub
ATTACH;FMTTYPE=image/jpeg:https://www.newalbanylinks.com/wp-content/uploads/sites/8864/2025/03/NAL-Fish-Fry-Fridays.jpg
END:VEVENT
END:VCALENDAR