BEGIN:VCALENDAR
VERSION:2.0
PRODID:-//New Albany Links Golf Club - ECPv6.15.18//NONSGML v1.0//EN
CALSCALE:GREGORIAN
METHOD:PUBLISH
X-WR-CALNAME:New Albany Links Golf Club
X-ORIGINAL-URL:https://www.newalbanylinks.com
X-WR-CALDESC:Events for New Albany Links Golf Club
REFRESH-INTERVAL;VALUE=DURATION:PT1H
X-Robots-Tag:noindex
X-PUBLISHED-TTL:PT1H
BEGIN:VTIMEZONE
TZID:America/New_York
BEGIN:DAYLIGHT
TZOFFSETFROM:-0500
TZOFFSETTO:-0400
TZNAME:EDT
DTSTART:20230312T070000
END:DAYLIGHT
BEGIN:STANDARD
TZOFFSETFROM:-0400
TZOFFSETTO:-0500
TZNAME:EST
DTSTART:20231105T060000
END:STANDARD
BEGIN:DAYLIGHT
TZOFFSETFROM:-0500
TZOFFSETTO:-0400
TZNAME:EDT
DTSTART:20240310T070000
END:DAYLIGHT
BEGIN:STANDARD
TZOFFSETFROM:-0400
TZOFFSETTO:-0500
TZNAME:EST
DTSTART:20241103T060000
END:STANDARD
BEGIN:DAYLIGHT
TZOFFSETFROM:-0500
TZOFFSETTO:-0400
TZNAME:EDT
DTSTART:20250309T070000
END:DAYLIGHT
BEGIN:STANDARD
TZOFFSETFROM:-0400
TZOFFSETTO:-0500
TZNAME:EST
DTSTART:20251102T060000
END:STANDARD
END:VTIMEZONE
BEGIN:VEVENT
DTSTART;TZID=America/New_York:20241103T100000
DTEND;TZID=America/New_York:20241103T170000
DTSTAMP:20260425T185627
CREATED:20240801T150638Z
LAST-MODIFIED:20240930T152937Z
UID:10000801-1730628000-1730653200@www.newalbanylinks.com
SUMMARY:Chili Open Golf Outing
DESCRIPTION:New Albany Links \nChili Open \n  \nDon’t miss out – secure your spot today and bring your A-game to the Chili Open! \n  \nGet ready for a golf event like no other! The Chili Open at New Albany Links is back\, and we want YOU to be a part of the Fall fun. Swing your clubs\, savor some homemade chili\, and enjoy a day of camaraderie on the greens. \n  \nDate: Sunday\, November 3rd\, 2024 \nTime: 10:00 AM Shotgun | 4-Player Scramble \nPrice: $300 Per Team  | $75 Per Player  (must sign up as a 4-some) \nIncludes:  \n\n18 Holes of Golf\nCart\nIce Cold Keg of Beer and Home Made Chili after your Round\nGames & Prizes\n\nClick HERE to Register \n  \nDon’t miss out on some Fall fun\, register today! \n  \n 
URL:https://www.newalbanylinks.com/event/chili-open-golf-outing/
LOCATION:New Albany Links
CATEGORIES:Golf
ATTACH;FMTTYPE=image/jpeg:https://www.newalbanylinks.com/wp-content/uploads/sites/8864/2024/08/NAL-Chili-Open-Flyer-NO-QR.jpg
END:VEVENT
BEGIN:VEVENT
DTSTART;TZID=America/New_York:20241105T183000
DTEND;TZID=America/New_York:20241105T203000
DTSTAMP:20260425T185627
CREATED:20240924T144135Z
LAST-MODIFIED:20241120T203702Z
UID:10000830-1730831400-1730838600@www.newalbanylinks.com
SUMMARY:Euchre League- Pre-Registration Required- 8 week League
DESCRIPTION:New Albany Links-Fall Euchre League \n  \n🎉 Deal Yourself In: Join Our Fall Euchre League at New Albany Links! 🃏🍂 \n  \nIt’s time to shuffle up and deal—New Albany Links’ Fall Euchre League is ready to kick off! Whether you’re a seasoned card shark or just love a good game night\, this is your chance to show off your skills and have a blast with fellow Euchre enthusiasts. \n  \nWhen: Tuesday Evenings 6:30 pm Start \nDates: 8 Weeks- October 8th\, 15th\, 22nd\, 29th\, November 5th\, 12th\, & 19th \nPlayoffs November 26th (Gift Certificates will be awarded) \nCost: $100 per 2 Person Team \nDetails: Three Matches Played Nightly \nRegistration: Limited to the First 20 Teams to Register. \n  \nClick HERE to register. \n  \nFood & Drink Specials Offered Nightly!
URL:https://www.newalbanylinks.com/event/euchre-league-pre-registration-required-8-week-league/2024-11-05/
CATEGORIES:Pub
ATTACH;FMTTYPE=image/jpeg:https://www.newalbanylinks.com/wp-content/uploads/sites/8864/2024/09/Fall-Euchre-NO-QR.jpg
END:VEVENT
BEGIN:VEVENT
DTSTART;TZID=America/New_York:20241106T183000
DTEND;TZID=America/New_York:20241106T200000
DTSTAMP:20260425T185627
CREATED:20240924T160535Z
LAST-MODIFIED:20240924T161101Z
UID:10000886-1730917800-1730923200@www.newalbanylinks.com
SUMMARY:Trivia Night at the New Albany Links Pub- Open to members and non-members
DESCRIPTION:🧠🍻 Trivia Nights at the New Albany Links Pub! 🎉 \nGet ready to flex those brain muscles and show off your trivia skills! Join us for an evening of brain-bending fun\, friendly competition\, and great memories. Whether you’re a trivia pro or just in it for the laughs\, this is your time to shine! 🌟🏆 \n  \n📅 Dates:\n11/06 | 11/13 | 11/20 | 11/27 \n🕡 Time: 6:30 PM – 8:00 PM \nGrab your friends\, order your favorite drink\, and let the games begin! 🍔🍻 See you at the pub! 👏
URL:https://www.newalbanylinks.com/event/trivia-night-at-the-links-pub/2024-11-06/
CATEGORIES:Pub
ATTACH;FMTTYPE=image/jpeg:https://www.newalbanylinks.com/wp-content/uploads/sites/8864/2024/09/November-Trivia-2024.jpg
END:VEVENT
BEGIN:VEVENT
DTSTART;TZID=America/New_York:20241112T183000
DTEND;TZID=America/New_York:20241112T203000
DTSTAMP:20260425T185627
CREATED:20240924T144135Z
LAST-MODIFIED:20241120T203702Z
UID:10000831-1731436200-1731443400@www.newalbanylinks.com
SUMMARY:Euchre League- Pre-Registration Required- 8 week League
DESCRIPTION:New Albany Links-Fall Euchre League \n  \n🎉 Deal Yourself In: Join Our Fall Euchre League at New Albany Links! 🃏🍂 \n  \nIt’s time to shuffle up and deal—New Albany Links’ Fall Euchre League is ready to kick off! Whether you’re a seasoned card shark or just love a good game night\, this is your chance to show off your skills and have a blast with fellow Euchre enthusiasts. \n  \nWhen: Tuesday Evenings 6:30 pm Start \nDates: 8 Weeks- October 8th\, 15th\, 22nd\, 29th\, November 5th\, 12th\, & 19th \nPlayoffs November 26th (Gift Certificates will be awarded) \nCost: $100 per 2 Person Team \nDetails: Three Matches Played Nightly \nRegistration: Limited to the First 20 Teams to Register. \n  \nClick HERE to register. \n  \nFood & Drink Specials Offered Nightly!
URL:https://www.newalbanylinks.com/event/euchre-league-pre-registration-required-8-week-league/2024-11-12/
CATEGORIES:Pub
ATTACH;FMTTYPE=image/jpeg:https://www.newalbanylinks.com/wp-content/uploads/sites/8864/2024/09/Fall-Euchre-NO-QR.jpg
END:VEVENT
BEGIN:VEVENT
DTSTART;TZID=America/New_York:20241113T183000
DTEND;TZID=America/New_York:20241113T200000
DTSTAMP:20260425T185627
CREATED:20240924T160535Z
LAST-MODIFIED:20240924T161101Z
UID:10000887-1731522600-1731528000@www.newalbanylinks.com
SUMMARY:Trivia Night at the New Albany Links Pub- Open to members and non-members
DESCRIPTION:🧠🍻 Trivia Nights at the New Albany Links Pub! 🎉 \nGet ready to flex those brain muscles and show off your trivia skills! Join us for an evening of brain-bending fun\, friendly competition\, and great memories. Whether you’re a trivia pro or just in it for the laughs\, this is your time to shine! 🌟🏆 \n  \n📅 Dates:\n11/06 | 11/13 | 11/20 | 11/27 \n🕡 Time: 6:30 PM – 8:00 PM \nGrab your friends\, order your favorite drink\, and let the games begin! 🍔🍻 See you at the pub! 👏
URL:https://www.newalbanylinks.com/event/trivia-night-at-the-links-pub/2024-11-13/
CATEGORIES:Pub
ATTACH;FMTTYPE=image/jpeg:https://www.newalbanylinks.com/wp-content/uploads/sites/8864/2024/09/November-Trivia-2024.jpg
END:VEVENT
BEGIN:VEVENT
DTSTART;TZID=America/New_York:20241119T183000
DTEND;TZID=America/New_York:20241119T203000
DTSTAMP:20260425T185627
CREATED:20240924T144135Z
LAST-MODIFIED:20241120T203702Z
UID:10000832-1732041000-1732048200@www.newalbanylinks.com
SUMMARY:Euchre League- Pre-Registration Required- 8 week League
DESCRIPTION:New Albany Links-Fall Euchre League \n  \n🎉 Deal Yourself In: Join Our Fall Euchre League at New Albany Links! 🃏🍂 \n  \nIt’s time to shuffle up and deal—New Albany Links’ Fall Euchre League is ready to kick off! Whether you’re a seasoned card shark or just love a good game night\, this is your chance to show off your skills and have a blast with fellow Euchre enthusiasts. \n  \nWhen: Tuesday Evenings 6:30 pm Start \nDates: 8 Weeks- October 8th\, 15th\, 22nd\, 29th\, November 5th\, 12th\, & 19th \nPlayoffs November 26th (Gift Certificates will be awarded) \nCost: $100 per 2 Person Team \nDetails: Three Matches Played Nightly \nRegistration: Limited to the First 20 Teams to Register. \n  \nClick HERE to register. \n  \nFood & Drink Specials Offered Nightly!
URL:https://www.newalbanylinks.com/event/euchre-league-pre-registration-required-8-week-league/2024-11-19/
CATEGORIES:Pub
ATTACH;FMTTYPE=image/jpeg:https://www.newalbanylinks.com/wp-content/uploads/sites/8864/2024/09/Fall-Euchre-NO-QR.jpg
END:VEVENT
BEGIN:VEVENT
DTSTART;TZID=America/New_York:20241120T183000
DTEND;TZID=America/New_York:20241120T200000
DTSTAMP:20260425T185627
CREATED:20240924T160535Z
LAST-MODIFIED:20240924T161101Z
UID:10000888-1732127400-1732132800@www.newalbanylinks.com
SUMMARY:Trivia Night at the New Albany Links Pub- Open to members and non-members
DESCRIPTION:🧠🍻 Trivia Nights at the New Albany Links Pub! 🎉 \nGet ready to flex those brain muscles and show off your trivia skills! Join us for an evening of brain-bending fun\, friendly competition\, and great memories. Whether you’re a trivia pro or just in it for the laughs\, this is your time to shine! 🌟🏆 \n  \n📅 Dates:\n11/06 | 11/13 | 11/20 | 11/27 \n🕡 Time: 6:30 PM – 8:00 PM \nGrab your friends\, order your favorite drink\, and let the games begin! 🍔🍻 See you at the pub! 👏
URL:https://www.newalbanylinks.com/event/trivia-night-at-the-links-pub/2024-11-20/
CATEGORIES:Pub
ATTACH;FMTTYPE=image/jpeg:https://www.newalbanylinks.com/wp-content/uploads/sites/8864/2024/09/November-Trivia-2024.jpg
END:VEVENT
BEGIN:VEVENT
DTSTART;TZID=America/New_York:20241121T170000
DTEND;TZID=America/New_York:20241121T190000
DTSTAMP:20260425T185627
CREATED:20241115T144151Z
LAST-MODIFIED:20241115T145740Z
UID:10000998-1732208400-1732215600@www.newalbanylinks.com
SUMMARY:Golf Member & Prospective Golf Member Open House
DESCRIPTION:You’re Invited: Columbus Collective Golf Member & Prospective Golf Member Open House \nWe’re excited to invite you to an evening of connection\, information\, and inspiration as we celebrate all things Columbus Collective. These events are designed for current members who want to ask questions\, provide feedback\, and learn more about upcoming plans\, as well as for prospective members considering joining our growing community! \nDate: Thursday\, November  21st\, 2024\nTime: 5:00 PM – 7:00 PM\nLocation: New Albany Links – Ballroom \nEnjoy complimentary drinks and light hors d’oeuvres as you: \n\nMeet our new Regional Superintendent\, Adam Zevchik\nChat with our KemperSports Columbus Collective team\nConnect with fellow members and those interested in joining\nLearn about our 2025 Memberships and all the benefits of being part of the Columbus Collective\nAsk questions about what’s ahead for 2025\n\nClick HERE for 2025 Membership information. \nWe welcome your questions\, feedback\, and comradery and we can’t wait to connect with you!
URL:https://www.newalbanylinks.com/event/golf-member-prospective-golf-member-open-house/
CATEGORIES:Events
ATTACH;FMTTYPE=image/jpeg:https://www.newalbanylinks.com/wp-content/uploads/sites/8864/2024/11/Golf-Member-Prospective-Golf-Member-Open-Houses-Flyer-New-Albany-ONly-for-their-calendar.jpg
END:VEVENT
BEGIN:VEVENT
DTSTART;TZID=America/New_York:20241126T183000
DTEND;TZID=America/New_York:20241126T203000
DTSTAMP:20260425T185627
CREATED:20240924T144135Z
LAST-MODIFIED:20241120T203702Z
UID:10000833-1732645800-1732653000@www.newalbanylinks.com
SUMMARY:Euchre League- Pre-Registration Required- 8 week League
DESCRIPTION:New Albany Links-Fall Euchre League \n  \n🎉 Deal Yourself In: Join Our Fall Euchre League at New Albany Links! 🃏🍂 \n  \nIt’s time to shuffle up and deal—New Albany Links’ Fall Euchre League is ready to kick off! Whether you’re a seasoned card shark or just love a good game night\, this is your chance to show off your skills and have a blast with fellow Euchre enthusiasts. \n  \nWhen: Tuesday Evenings 6:30 pm Start \nDates: 8 Weeks- October 8th\, 15th\, 22nd\, 29th\, November 5th\, 12th\, & 19th \nPlayoffs November 26th (Gift Certificates will be awarded) \nCost: $100 per 2 Person Team \nDetails: Three Matches Played Nightly \nRegistration: Limited to the First 20 Teams to Register. \n  \nClick HERE to register. \n  \nFood & Drink Specials Offered Nightly!
URL:https://www.newalbanylinks.com/event/euchre-league-pre-registration-required-8-week-league/2024-11-26/
CATEGORIES:Pub
ATTACH;FMTTYPE=image/jpeg:https://www.newalbanylinks.com/wp-content/uploads/sites/8864/2024/09/Fall-Euchre-NO-QR.jpg
END:VEVENT
BEGIN:VEVENT
DTSTART;TZID=America/New_York:20241127T170000
DTEND;TZID=America/New_York:20241127T190000
DTSTAMP:20260425T185627
CREATED:20240801T150838Z
LAST-MODIFIED:20240926T185456Z
UID:10000803-1732726800-1732734000@www.newalbanylinks.com
SUMMARY:Day Before Thanksgiving Pasta Buffet in the Pub
DESCRIPTION:New Albany Links- Day Before Thanksgiving Buffet \n  \nWhy stress over cooking the night before Thanksgiving? 🦃 Let us do the cooking for you! Join us on Wednesday\, November 27th\, for a delicious pre-Thanksgiving feast that the whole family will love. \n  \nDate: Wednesday\, November 27th\, 2024 \nTime: 5:00 pm-7:00 pm \nCost: $25 Per Person    |  $18 Per Child 3-12  | Children 2 and under are Complimentary \n(price includes tax and service charge) \nMenu: \n\n\n\nPenne Marinara\nPenne Alfredo\nMeatballs\nGrilled Chicken\nGreen Beans with Blistered Tomatoes\nCaesar Salad\nGarlic Bread\nCookies\n\n\n\nRegistration: Reservations are required and can be made at newalbanylinks.com. This event is open to members and non-members. \n  \nClick HERE to register. Limited space available. This event will fill up fast\, register today! \n  \nGather your loved ones and join us for an evening of delicious food and fun!  Enjoy a hassle-free evening with great food and good company. We can’t wait to see you there!
URL:https://www.newalbanylinks.com/event/day-before-thanksgiving-pasta-buffet-in-the-pub/
LOCATION:New Albany Links
CATEGORIES:Events
ATTACH;FMTTYPE=image/jpeg:https://www.newalbanylinks.com/wp-content/uploads/sites/8864/2024/08/NAL-Day-Before-Thanksgiving-Buffet-2024-FLYER.jpg
END:VEVENT
BEGIN:VEVENT
DTSTART;TZID=America/New_York:20241127T183000
DTEND;TZID=America/New_York:20241127T200000
DTSTAMP:20260425T185627
CREATED:20240924T160535Z
LAST-MODIFIED:20240924T161101Z
UID:10000889-1732732200-1732737600@www.newalbanylinks.com
SUMMARY:Trivia Night at the New Albany Links Pub- Open to members and non-members
DESCRIPTION:🧠🍻 Trivia Nights at the New Albany Links Pub! 🎉 \nGet ready to flex those brain muscles and show off your trivia skills! Join us for an evening of brain-bending fun\, friendly competition\, and great memories. Whether you’re a trivia pro or just in it for the laughs\, this is your time to shine! 🌟🏆 \n  \n📅 Dates:\n11/06 | 11/13 | 11/20 | 11/27 \n🕡 Time: 6:30 PM – 8:00 PM \nGrab your friends\, order your favorite drink\, and let the games begin! 🍔🍻 See you at the pub! 👏
URL:https://www.newalbanylinks.com/event/trivia-night-at-the-links-pub/2024-11-27/
CATEGORIES:Pub
ATTACH;FMTTYPE=image/jpeg:https://www.newalbanylinks.com/wp-content/uploads/sites/8864/2024/09/November-Trivia-2024.jpg
END:VEVENT
BEGIN:VEVENT
DTSTART;VALUE=DATE:20241128
DTEND;VALUE=DATE:20241129
DTSTAMP:20260425T185627
CREATED:20241120T200621Z
LAST-MODIFIED:20241120T200645Z
UID:10000999-1732752000-1732838399@www.newalbanylinks.com
SUMMARY:Course & Clubhouse Closed for the Thanksgiving Holiday
DESCRIPTION:The course & clubhouse will be closed for the holiday.
URL:https://www.newalbanylinks.com/event/course-clubhouse-closed-for-the-thanksgiving-holiday/
CATEGORIES:Golf,Pub
ATTACH;FMTTYPE=image/jpeg:https://www.newalbanylinks.com/wp-content/uploads/sites/8864/2023/10/Closed-for-Thanksgiving.jpg
END:VEVENT
BEGIN:VEVENT
DTSTART;TZID=America/New_York:20241129T090000
DTEND;TZID=America/New_York:20241129T170000
DTSTAMP:20260425T185627
CREATED:20241127T122924Z
LAST-MODIFIED:20241127T123019Z
UID:10001001-1732870800-1732899600@www.newalbanylinks.com
SUMMARY:Black Friday Sale
DESCRIPTION:
URL:https://www.newalbanylinks.com/event/black-friday-sale/2024-11-29/
CATEGORIES:Golf
ATTACH;FMTTYPE=image/jpeg:https://www.newalbanylinks.com/wp-content/uploads/sites/8864/2024/11/NAL-Black-Friday-Sale-JPG.jpg
END:VEVENT
BEGIN:VEVENT
DTSTART;TZID=America/New_York:20241130T090000
DTEND;TZID=America/New_York:20241130T170000
DTSTAMP:20260425T185627
CREATED:20241127T122924Z
LAST-MODIFIED:20241127T123019Z
UID:10001002-1732957200-1732986000@www.newalbanylinks.com
SUMMARY:Black Friday Sale
DESCRIPTION:
URL:https://www.newalbanylinks.com/event/black-friday-sale/2024-11-30/
CATEGORIES:Golf
ATTACH;FMTTYPE=image/jpeg:https://www.newalbanylinks.com/wp-content/uploads/sites/8864/2024/11/NAL-Black-Friday-Sale-JPG.jpg
END:VEVENT
END:VCALENDAR