BEGIN:VCALENDAR
VERSION:2.0
PRODID:-//New Albany Links Golf Club - ECPv6.15.18//NONSGML v1.0//EN
CALSCALE:GREGORIAN
METHOD:PUBLISH
X-ORIGINAL-URL:https://www.newalbanylinks.com
X-WR-CALDESC:Events for New Albany Links Golf Club
REFRESH-INTERVAL;VALUE=DURATION:PT1H
X-Robots-Tag:noindex
X-PUBLISHED-TTL:PT1H
BEGIN:VTIMEZONE
TZID:UTC
BEGIN:STANDARD
TZOFFSETFROM:+0000
TZOFFSETTO:+0000
TZNAME:UTC
DTSTART:20220101T000000
END:STANDARD
END:VTIMEZONE
BEGIN:VEVENT
DTSTART;TZID=UTC:20231019T173000
DTEND;TZID=UTC:20231019T193000
DTSTAMP:20260423T101802
CREATED:20230731T223952Z
LAST-MODIFIED:20230731T224616Z
UID:10000056-1697736600-1697743800@www.newalbanylinks.com
SUMMARY:Men's Weekly Night on the Tennis Courts
DESCRIPTION:Enjoy 90 minutes of high intensity drills / fun workout and great camaraderie! \n  \nFor more information reach out to Pam Lippy\, USPTA Elite Pro\, at pamlippy@gmail.com.
URL:https://www.newalbanylinks.com/event/mens-weekly-night-on-the-tennis-courts/2023-10-19/
CATEGORIES:Tennis & Pickleball
END:VEVENT
BEGIN:VEVENT
DTSTART;TZID=UTC:20231018T180000
DTEND;TZID=UTC:20231018T193000
DTSTAMP:20260423T101802
CREATED:20230731T224345Z
LAST-MODIFIED:20231027T210315Z
UID:10000117-1697652000-1697657400@www.newalbanylinks.com
SUMMARY:Pickle and Play
DESCRIPTION:Wednesdays  6:00-7:30 \nJoin like-minded dinkers and bangers for 30 minutes of injury preventing warm up and drills followed by 1 hour of supervised match play. \nFor more information reach out to Pam Lippy\, USPTA Elite Pro\, at pamlippy@gmail.com.
URL:https://www.newalbanylinks.com/event/pickle-play/2023-10-18/
CATEGORIES:Tennis & Pickleball
END:VEVENT
BEGIN:VEVENT
DTSTART;TZID=UTC:20231012T173000
DTEND;TZID=UTC:20231012T193000
DTSTAMP:20260423T101802
CREATED:20230731T223952Z
LAST-MODIFIED:20230731T224616Z
UID:10000055-1697131800-1697139000@www.newalbanylinks.com
SUMMARY:Men's Weekly Night on the Tennis Courts
DESCRIPTION:Enjoy 90 minutes of high intensity drills / fun workout and great camaraderie! \n  \nFor more information reach out to Pam Lippy\, USPTA Elite Pro\, at pamlippy@gmail.com.
URL:https://www.newalbanylinks.com/event/mens-weekly-night-on-the-tennis-courts/2023-10-12/
CATEGORIES:Tennis & Pickleball
END:VEVENT
BEGIN:VEVENT
DTSTART;TZID=UTC:20231011T180000
DTEND;TZID=UTC:20231011T193000
DTSTAMP:20260423T101802
CREATED:20230731T224345Z
LAST-MODIFIED:20231027T210315Z
UID:10000116-1697047200-1697052600@www.newalbanylinks.com
SUMMARY:Pickle and Play
DESCRIPTION:Wednesdays  6:00-7:30 \nJoin like-minded dinkers and bangers for 30 minutes of injury preventing warm up and drills followed by 1 hour of supervised match play. \nFor more information reach out to Pam Lippy\, USPTA Elite Pro\, at pamlippy@gmail.com.
URL:https://www.newalbanylinks.com/event/pickle-play/2023-10-11/
CATEGORIES:Tennis & Pickleball
END:VEVENT
BEGIN:VEVENT
DTSTART;TZID=UTC:20231005T173000
DTEND;TZID=UTC:20231005T193000
DTSTAMP:20260423T101802
CREATED:20230731T223952Z
LAST-MODIFIED:20230731T224616Z
UID:10000054-1696527000-1696534200@www.newalbanylinks.com
SUMMARY:Men's Weekly Night on the Tennis Courts
DESCRIPTION:Enjoy 90 minutes of high intensity drills / fun workout and great camaraderie! \n  \nFor more information reach out to Pam Lippy\, USPTA Elite Pro\, at pamlippy@gmail.com.
URL:https://www.newalbanylinks.com/event/mens-weekly-night-on-the-tennis-courts/2023-10-05/
CATEGORIES:Tennis & Pickleball
END:VEVENT
BEGIN:VEVENT
DTSTART;TZID=UTC:20231004T180000
DTEND;TZID=UTC:20231004T193000
DTSTAMP:20260423T101802
CREATED:20230731T224345Z
LAST-MODIFIED:20231027T210315Z
UID:10000115-1696442400-1696447800@www.newalbanylinks.com
SUMMARY:Pickle and Play
DESCRIPTION:Wednesdays  6:00-7:30 \nJoin like-minded dinkers and bangers for 30 minutes of injury preventing warm up and drills followed by 1 hour of supervised match play. \nFor more information reach out to Pam Lippy\, USPTA Elite Pro\, at pamlippy@gmail.com.
URL:https://www.newalbanylinks.com/event/pickle-play/2023-10-04/
CATEGORIES:Tennis & Pickleball
END:VEVENT
BEGIN:VEVENT
DTSTART;TZID=UTC:20230928T173000
DTEND;TZID=UTC:20230928T193000
DTSTAMP:20260423T101802
CREATED:20230731T223952Z
LAST-MODIFIED:20230731T224616Z
UID:10000053-1695922200-1695929400@www.newalbanylinks.com
SUMMARY:Men's Weekly Night on the Tennis Courts
DESCRIPTION:Enjoy 90 minutes of high intensity drills / fun workout and great camaraderie! \n  \nFor more information reach out to Pam Lippy\, USPTA Elite Pro\, at pamlippy@gmail.com.
URL:https://www.newalbanylinks.com/event/mens-weekly-night-on-the-tennis-courts/2023-09-28/
CATEGORIES:Tennis & Pickleball
END:VEVENT
BEGIN:VEVENT
DTSTART;TZID=UTC:20230927T180000
DTEND;TZID=UTC:20230927T193000
DTSTAMP:20260423T101802
CREATED:20230731T224345Z
LAST-MODIFIED:20231027T210315Z
UID:10000114-1695837600-1695843000@www.newalbanylinks.com
SUMMARY:Pickle and Play
DESCRIPTION:Wednesdays  6:00-7:30 \nJoin like-minded dinkers and bangers for 30 minutes of injury preventing warm up and drills followed by 1 hour of supervised match play. \nFor more information reach out to Pam Lippy\, USPTA Elite Pro\, at pamlippy@gmail.com.
URL:https://www.newalbanylinks.com/event/pickle-play/2023-09-27/
CATEGORIES:Tennis & Pickleball
END:VEVENT
BEGIN:VEVENT
DTSTART;TZID=UTC:20230921T173000
DTEND;TZID=UTC:20230921T193000
DTSTAMP:20260423T101802
CREATED:20230731T223952Z
LAST-MODIFIED:20230731T224616Z
UID:10000052-1695317400-1695324600@www.newalbanylinks.com
SUMMARY:Men's Weekly Night on the Tennis Courts
DESCRIPTION:Enjoy 90 minutes of high intensity drills / fun workout and great camaraderie! \n  \nFor more information reach out to Pam Lippy\, USPTA Elite Pro\, at pamlippy@gmail.com.
URL:https://www.newalbanylinks.com/event/mens-weekly-night-on-the-tennis-courts/2023-09-21/
CATEGORIES:Tennis & Pickleball
END:VEVENT
BEGIN:VEVENT
DTSTART;TZID=UTC:20230920T180000
DTEND;TZID=UTC:20230920T193000
DTSTAMP:20260423T101802
CREATED:20230731T224345Z
LAST-MODIFIED:20231027T210315Z
UID:10000113-1695232800-1695238200@www.newalbanylinks.com
SUMMARY:Pickle and Play
DESCRIPTION:Wednesdays  6:00-7:30 \nJoin like-minded dinkers and bangers for 30 minutes of injury preventing warm up and drills followed by 1 hour of supervised match play. \nFor more information reach out to Pam Lippy\, USPTA Elite Pro\, at pamlippy@gmail.com.
URL:https://www.newalbanylinks.com/event/pickle-play/2023-09-20/
CATEGORIES:Tennis & Pickleball
END:VEVENT
BEGIN:VEVENT
DTSTART;TZID=UTC:20230914T173000
DTEND;TZID=UTC:20230914T193000
DTSTAMP:20260423T101802
CREATED:20230731T223952Z
LAST-MODIFIED:20230731T224616Z
UID:10000051-1694712600-1694719800@www.newalbanylinks.com
SUMMARY:Men's Weekly Night on the Tennis Courts
DESCRIPTION:Enjoy 90 minutes of high intensity drills / fun workout and great camaraderie! \n  \nFor more information reach out to Pam Lippy\, USPTA Elite Pro\, at pamlippy@gmail.com.
URL:https://www.newalbanylinks.com/event/mens-weekly-night-on-the-tennis-courts/2023-09-14/
CATEGORIES:Tennis & Pickleball
END:VEVENT
BEGIN:VEVENT
DTSTART;TZID=UTC:20230913T180000
DTEND;TZID=UTC:20230913T193000
DTSTAMP:20260423T101802
CREATED:20230731T224345Z
LAST-MODIFIED:20231027T210315Z
UID:10000112-1694628000-1694633400@www.newalbanylinks.com
SUMMARY:Pickle and Play
DESCRIPTION:Wednesdays  6:00-7:30 \nJoin like-minded dinkers and bangers for 30 minutes of injury preventing warm up and drills followed by 1 hour of supervised match play. \nFor more information reach out to Pam Lippy\, USPTA Elite Pro\, at pamlippy@gmail.com.
URL:https://www.newalbanylinks.com/event/pickle-play/2023-09-13/
CATEGORIES:Tennis & Pickleball
END:VEVENT
BEGIN:VEVENT
DTSTART;TZID=UTC:20230907T173000
DTEND;TZID=UTC:20230907T193000
DTSTAMP:20260423T101802
CREATED:20230731T223952Z
LAST-MODIFIED:20230731T224616Z
UID:10000050-1694107800-1694115000@www.newalbanylinks.com
SUMMARY:Men's Weekly Night on the Tennis Courts
DESCRIPTION:Enjoy 90 minutes of high intensity drills / fun workout and great camaraderie! \n  \nFor more information reach out to Pam Lippy\, USPTA Elite Pro\, at pamlippy@gmail.com.
URL:https://www.newalbanylinks.com/event/mens-weekly-night-on-the-tennis-courts/2023-09-07/
CATEGORIES:Tennis & Pickleball
END:VEVENT
BEGIN:VEVENT
DTSTART;TZID=UTC:20230906T180000
DTEND;TZID=UTC:20230906T193000
DTSTAMP:20260423T101802
CREATED:20230731T224345Z
LAST-MODIFIED:20231027T210315Z
UID:10000111-1694023200-1694028600@www.newalbanylinks.com
SUMMARY:Pickle and Play
DESCRIPTION:Wednesdays  6:00-7:30 \nJoin like-minded dinkers and bangers for 30 minutes of injury preventing warm up and drills followed by 1 hour of supervised match play. \nFor more information reach out to Pam Lippy\, USPTA Elite Pro\, at pamlippy@gmail.com.
URL:https://www.newalbanylinks.com/event/pickle-play/2023-09-06/
CATEGORIES:Tennis & Pickleball
END:VEVENT
BEGIN:VEVENT
DTSTART;TZID=UTC:20230831T173000
DTEND;TZID=UTC:20230831T193000
DTSTAMP:20260423T101802
CREATED:20230731T223952Z
LAST-MODIFIED:20230731T224616Z
UID:10000049-1693503000-1693510200@www.newalbanylinks.com
SUMMARY:Men's Weekly Night on the Tennis Courts
DESCRIPTION:Enjoy 90 minutes of high intensity drills / fun workout and great camaraderie! \n  \nFor more information reach out to Pam Lippy\, USPTA Elite Pro\, at pamlippy@gmail.com.
URL:https://www.newalbanylinks.com/event/mens-weekly-night-on-the-tennis-courts/2023-08-31/
CATEGORIES:Tennis & Pickleball
END:VEVENT
BEGIN:VEVENT
DTSTART;TZID=UTC:20230830T180000
DTEND;TZID=UTC:20230830T193000
DTSTAMP:20260423T101802
CREATED:20230731T224345Z
LAST-MODIFIED:20231027T210315Z
UID:10000110-1693418400-1693423800@www.newalbanylinks.com
SUMMARY:Pickle and Play
DESCRIPTION:Wednesdays  6:00-7:30 \nJoin like-minded dinkers and bangers for 30 minutes of injury preventing warm up and drills followed by 1 hour of supervised match play. \nFor more information reach out to Pam Lippy\, USPTA Elite Pro\, at pamlippy@gmail.com.
URL:https://www.newalbanylinks.com/event/pickle-play/2023-08-30/
CATEGORIES:Tennis & Pickleball
END:VEVENT
BEGIN:VEVENT
DTSTART;TZID=UTC:20230824T173000
DTEND;TZID=UTC:20230824T193000
DTSTAMP:20260423T101802
CREATED:20230731T223952Z
LAST-MODIFIED:20230731T224616Z
UID:10000048-1692898200-1692905400@www.newalbanylinks.com
SUMMARY:Men's Weekly Night on the Tennis Courts
DESCRIPTION:Enjoy 90 minutes of high intensity drills / fun workout and great camaraderie! \n  \nFor more information reach out to Pam Lippy\, USPTA Elite Pro\, at pamlippy@gmail.com.
URL:https://www.newalbanylinks.com/event/mens-weekly-night-on-the-tennis-courts/2023-08-24/
CATEGORIES:Tennis & Pickleball
END:VEVENT
BEGIN:VEVENT
DTSTART;TZID=UTC:20230823T180000
DTEND;TZID=UTC:20230823T193000
DTSTAMP:20260423T101802
CREATED:20230731T224345Z
LAST-MODIFIED:20231027T210315Z
UID:10000109-1692813600-1692819000@www.newalbanylinks.com
SUMMARY:Pickle and Play
DESCRIPTION:Wednesdays  6:00-7:30 \nJoin like-minded dinkers and bangers for 30 minutes of injury preventing warm up and drills followed by 1 hour of supervised match play. \nFor more information reach out to Pam Lippy\, USPTA Elite Pro\, at pamlippy@gmail.com.
URL:https://www.newalbanylinks.com/event/pickle-play/2023-08-23/
CATEGORIES:Tennis & Pickleball
END:VEVENT
BEGIN:VEVENT
DTSTART;TZID=UTC:20230817T173000
DTEND;TZID=UTC:20230817T193000
DTSTAMP:20260423T101802
CREATED:20230731T223952Z
LAST-MODIFIED:20230731T224616Z
UID:10000047-1692293400-1692300600@www.newalbanylinks.com
SUMMARY:Men's Weekly Night on the Tennis Courts
DESCRIPTION:Enjoy 90 minutes of high intensity drills / fun workout and great camaraderie! \n  \nFor more information reach out to Pam Lippy\, USPTA Elite Pro\, at pamlippy@gmail.com.
URL:https://www.newalbanylinks.com/event/mens-weekly-night-on-the-tennis-courts/2023-08-17/
CATEGORIES:Tennis & Pickleball
END:VEVENT
BEGIN:VEVENT
DTSTART;TZID=UTC:20230816T180000
DTEND;TZID=UTC:20230816T193000
DTSTAMP:20260423T101802
CREATED:20230731T224345Z
LAST-MODIFIED:20231027T210315Z
UID:10000108-1692208800-1692214200@www.newalbanylinks.com
SUMMARY:Pickle and Play
DESCRIPTION:Wednesdays  6:00-7:30 \nJoin like-minded dinkers and bangers for 30 minutes of injury preventing warm up and drills followed by 1 hour of supervised match play. \nFor more information reach out to Pam Lippy\, USPTA Elite Pro\, at pamlippy@gmail.com.
URL:https://www.newalbanylinks.com/event/pickle-play/2023-08-16/
CATEGORIES:Tennis & Pickleball
END:VEVENT
BEGIN:VEVENT
DTSTART;TZID=UTC:20230810T173000
DTEND;TZID=UTC:20230810T193000
DTSTAMP:20260423T101802
CREATED:20230731T223952Z
LAST-MODIFIED:20230731T224616Z
UID:10000046-1691688600-1691695800@www.newalbanylinks.com
SUMMARY:Men's Weekly Night on the Tennis Courts
DESCRIPTION:Enjoy 90 minutes of high intensity drills / fun workout and great camaraderie! \n  \nFor more information reach out to Pam Lippy\, USPTA Elite Pro\, at pamlippy@gmail.com.
URL:https://www.newalbanylinks.com/event/mens-weekly-night-on-the-tennis-courts/2023-08-10/
CATEGORIES:Tennis & Pickleball
END:VEVENT
BEGIN:VEVENT
DTSTART;TZID=UTC:20230809T180000
DTEND;TZID=UTC:20230809T193000
DTSTAMP:20260423T101802
CREATED:20230731T224345Z
LAST-MODIFIED:20231027T210315Z
UID:10000107-1691604000-1691609400@www.newalbanylinks.com
SUMMARY:Pickle and Play
DESCRIPTION:Wednesdays  6:00-7:30 \nJoin like-minded dinkers and bangers for 30 minutes of injury preventing warm up and drills followed by 1 hour of supervised match play. \nFor more information reach out to Pam Lippy\, USPTA Elite Pro\, at pamlippy@gmail.com.
URL:https://www.newalbanylinks.com/event/pickle-play/2023-08-09/
CATEGORIES:Tennis & Pickleball
END:VEVENT
BEGIN:VEVENT
DTSTART;TZID=UTC:20230803T173000
DTEND;TZID=UTC:20230803T193000
DTSTAMP:20260423T101802
CREATED:20230731T223952Z
LAST-MODIFIED:20230731T224616Z
UID:10000045-1691083800-1691091000@www.newalbanylinks.com
SUMMARY:Men's Weekly Night on the Tennis Courts
DESCRIPTION:Enjoy 90 minutes of high intensity drills / fun workout and great camaraderie! \n  \nFor more information reach out to Pam Lippy\, USPTA Elite Pro\, at pamlippy@gmail.com.
URL:https://www.newalbanylinks.com/event/mens-weekly-night-on-the-tennis-courts/2023-08-03/
CATEGORIES:Tennis & Pickleball
END:VEVENT
BEGIN:VEVENT
DTSTART;TZID=UTC:20230802T180000
DTEND;TZID=UTC:20230802T193000
DTSTAMP:20260423T101802
CREATED:20230731T224345Z
LAST-MODIFIED:20231027T210315Z
UID:10000106-1690999200-1691004600@www.newalbanylinks.com
SUMMARY:Pickle and Play
DESCRIPTION:Wednesdays  6:00-7:30 \nJoin like-minded dinkers and bangers for 30 minutes of injury preventing warm up and drills followed by 1 hour of supervised match play. \nFor more information reach out to Pam Lippy\, USPTA Elite Pro\, at pamlippy@gmail.com.
URL:https://www.newalbanylinks.com/event/pickle-play/2023-08-02/
CATEGORIES:Tennis & Pickleball
END:VEVENT
END:VCALENDAR