BEGIN:VCALENDAR
VERSION:2.0
PRODID:-//New Albany Links Golf Club - ECPv6.15.18//NONSGML v1.0//EN
CALSCALE:GREGORIAN
METHOD:PUBLISH
X-WR-CALNAME:New Albany Links Golf Club
X-ORIGINAL-URL:https://www.newalbanylinks.com
X-WR-CALDESC:Events for New Albany Links Golf Club
REFRESH-INTERVAL;VALUE=DURATION:PT1H
X-Robots-Tag:noindex
X-PUBLISHED-TTL:PT1H
BEGIN:VTIMEZONE
TZID:America/New_York
BEGIN:DAYLIGHT
TZOFFSETFROM:-0500
TZOFFSETTO:-0400
TZNAME:EDT
DTSTART:20250309T070000
END:DAYLIGHT
BEGIN:STANDARD
TZOFFSETFROM:-0400
TZOFFSETTO:-0500
TZNAME:EST
DTSTART:20251102T060000
END:STANDARD
BEGIN:DAYLIGHT
TZOFFSETFROM:-0500
TZOFFSETTO:-0400
TZNAME:EDT
DTSTART:20260308T070000
END:DAYLIGHT
BEGIN:STANDARD
TZOFFSETFROM:-0400
TZOFFSETTO:-0500
TZNAME:EST
DTSTART:20261101T060000
END:STANDARD
BEGIN:DAYLIGHT
TZOFFSETFROM:-0500
TZOFFSETTO:-0400
TZNAME:EDT
DTSTART:20270314T070000
END:DAYLIGHT
BEGIN:STANDARD
TZOFFSETFROM:-0400
TZOFFSETTO:-0500
TZNAME:EST
DTSTART:20271107T060000
END:STANDARD
END:VTIMEZONE
BEGIN:VEVENT
DTSTART;TZID=America/New_York:20260612T180000
DTEND;TZID=America/New_York:20260612T200000
DTSTAMP:20260424T055548
CREATED:20260415T180703Z
LAST-MODIFIED:20260415T180703Z
UID:10001517-1781287200-1781294400@www.newalbanylinks.com
SUMMARY:Learn to Play Mahjong
DESCRIPTION:Join us for a fun and interactive evening in the pub as we learn to play Mahjong! Whether you’re brand new or just looking to brush up on your skills\, this is the perfect chance to enjoy a relaxed\, social night with friends. \nDate: Friday\, June 12th\, 2026 \nTime: 6:00 pm- 8:00 pm \nLocation: New Albany Links Golf Club \nCost: $25 Members | $50 Non-Members \nRegistration:  This event is open to members and non-members. \nClick HERE to register.
URL:https://www.newalbanylinks.com/event/learn-to-play-mahjong-2/
LOCATION:New Albany Links
ATTACH;FMTTYPE=image/png:https://www.newalbanylinks.com/wp-content/uploads/sites/8864/2026/04/NAL-Mahjong-612.png
END:VEVENT
END:VCALENDAR