BEGIN:VCALENDAR
VERSION:2.0
PRODID:-//New Albany Links Golf Club - ECPv6.15.18//NONSGML v1.0//EN
CALSCALE:GREGORIAN
METHOD:PUBLISH
X-ORIGINAL-URL:https://www.newalbanylinks.com
X-WR-CALDESC:Events for New Albany Links Golf Club
REFRESH-INTERVAL;VALUE=DURATION:PT1H
X-Robots-Tag:noindex
X-PUBLISHED-TTL:PT1H
BEGIN:VTIMEZONE
TZID:America/New_York
BEGIN:DAYLIGHT
TZOFFSETFROM:-0500
TZOFFSETTO:-0400
TZNAME:EDT
DTSTART:20240310T070000
END:DAYLIGHT
BEGIN:STANDARD
TZOFFSETFROM:-0400
TZOFFSETTO:-0500
TZNAME:EST
DTSTART:20241103T060000
END:STANDARD
BEGIN:DAYLIGHT
TZOFFSETFROM:-0500
TZOFFSETTO:-0400
TZNAME:EDT
DTSTART:20250309T070000
END:DAYLIGHT
BEGIN:STANDARD
TZOFFSETFROM:-0400
TZOFFSETTO:-0500
TZNAME:EST
DTSTART:20251102T060000
END:STANDARD
BEGIN:DAYLIGHT
TZOFFSETFROM:-0500
TZOFFSETTO:-0400
TZNAME:EDT
DTSTART:20260308T070000
END:DAYLIGHT
BEGIN:STANDARD
TZOFFSETFROM:-0400
TZOFFSETTO:-0500
TZNAME:EST
DTSTART:20261101T060000
END:STANDARD
END:VTIMEZONE
BEGIN:VEVENT
DTSTART;TZID=America/New_York:20251214T100000
DTEND;TZID=America/New_York:20251214T100000
DTSTAMP:20260421T135401
CREATED:20250408T202355Z
LAST-MODIFIED:20251111T230234Z
UID:10001164-1765706400-1765706400@www.newalbanylinks.com
SUMMARY:Santa Brunch
DESCRIPTION: Join Us for Santa Brunch at New Albany Links!  \n  \nGet into the holiday spirit with a magical Santa Brunch at New Albany Links on Sunday\, December 14th\, 2025!  Bring the whole family to enjoy a festive brunch\, meet Santa\, and create cherished holiday memories. \n  \nDate: Sunday\, December 14th\, 2025 \nTime: 10:00 am \nPrice: $45 Per Person | $18 Per Child 4-10 | 3 and Under Complimentary \n  \nClick HERE to make a reservation. This event is open to members and non-members. \n  \nBrunch Menu \nHoliday Charcuterie \nFrittatas \nRoasted Redskin with Rosemary & Garlic \nFruit Salad \nAssorted Pastries & Muffins & Desserts \n  \nChef Attended Omelet Station \nHomemade French Toast Station \n  \nWarm Rolls & Herb Butter \nMixed Greens Salad \nGreen Beans with Blistered Tomatoes & Balsamic Drizzle \nGarlic Chive Whipped Potatoes \nEye of Round with Au Jus \nRoasted Turkey Breast & Gravy \nVegetarian Lasagna \n  \nKids: \nCrispy Chicken Tenders \nCreamy Mac & Cheese \nTater Tots \nChocolate Trifle \n  \nBeverages: \nHot Chocolate Bar \nAssorted Juice \nCoffee\, Decaf\, Hot Tea\, Lemonade \n  \nDon’t miss out on this joyful holiday tradition—reserve your spot today! \nWe look forward to celebrating the season with you! 
URL:https://www.newalbanylinks.com/event/santa-brunch-3/
LOCATION:New Albany Links
ATTACH;FMTTYPE=image/png:https://www.newalbanylinks.com/wp-content/uploads/sites/8864/2025/04/Santa-Brunch-2025-NO-QR-1.png
END:VEVENT
END:VCALENDAR