BEGIN:VCALENDAR
VERSION:2.0
PRODID:-//New Albany Links Golf Club - ECPv6.15.18//NONSGML v1.0//EN
CALSCALE:GREGORIAN
METHOD:PUBLISH
X-WR-CALNAME:New Albany Links Golf Club
X-ORIGINAL-URL:https://www.newalbanylinks.com
X-WR-CALDESC:Events for New Albany Links Golf Club
REFRESH-INTERVAL;VALUE=DURATION:PT1H
X-Robots-Tag:noindex
X-PUBLISHED-TTL:PT1H
BEGIN:VTIMEZONE
TZID:America/New_York
BEGIN:DAYLIGHT
TZOFFSETFROM:-0500
TZOFFSETTO:-0400
TZNAME:EDT
DTSTART:20240310T070000
END:DAYLIGHT
BEGIN:STANDARD
TZOFFSETFROM:-0400
TZOFFSETTO:-0500
TZNAME:EST
DTSTART:20241103T060000
END:STANDARD
BEGIN:DAYLIGHT
TZOFFSETFROM:-0500
TZOFFSETTO:-0400
TZNAME:EDT
DTSTART:20250309T070000
END:DAYLIGHT
BEGIN:STANDARD
TZOFFSETFROM:-0400
TZOFFSETTO:-0500
TZNAME:EST
DTSTART:20251102T060000
END:STANDARD
BEGIN:DAYLIGHT
TZOFFSETFROM:-0500
TZOFFSETTO:-0400
TZNAME:EDT
DTSTART:20260308T070000
END:DAYLIGHT
BEGIN:STANDARD
TZOFFSETFROM:-0400
TZOFFSETTO:-0500
TZNAME:EST
DTSTART:20261101T060000
END:STANDARD
END:VTIMEZONE
BEGIN:VEVENT
DTSTART;TZID=America/New_York:20251126T160000
DTEND;TZID=America/New_York:20251126T190000
DTSTAMP:20260421T212115
CREATED:20250408T202126Z
LAST-MODIFIED:20251008T161550Z
UID:10001155-1764172800-1764183600@www.newalbanylinks.com
SUMMARY:To-Go Order Thanksgiving Dinner
DESCRIPTION:This Thanksgiving\, let us do the prep so you can enjoy more time with family and friends. Our chefs have prepared a delicious Thanksgiving Dinner To-Go\, with the turkey seasoned and ready for your oven\, plus sides designed for easy heating and serving. Enjoy a memorable holiday meal without the hassle\, while still putting the finishing touch on the centerpiece at home. \n  \nIncludes: \n\nTurkey (Ready-To-Cook)\nTraditional Dressing\nMashed Potatoes & Gravy\nHomestyle Green Beans with Bacon\nCranberry Sauce\nRolls\n\nAdd Ons: \n\n10″ Pumpkin Pie | $26 Each\nCheese Platter | $8 Per Person\nShrimp Cocktail | $12 Per Person\nFruit Platter | $6 Per Person\n\nDate: Wednesday\, November 26th \nTime: 4pm – 7pm \nTo Order: Please call Shannon at 614-855-8532 ext. 5. Orders must be placed by 11/17/25. Pick up will be 11/26/25 from 4:00pm-7:00pm. This is a cold meal pick up to be reheated and the turkey will be seasoned and ready-to-cook. Supplies are limited and will sell out. Payment will be due upon ordering and all credit cards will have a 3% processing fee. \n 
URL:https://www.newalbanylinks.com/event/to-go-order-thanksgiving-dinner/
LOCATION:New Albany Links
ATTACH;FMTTYPE=image/jpeg:https://www.newalbanylinks.com/wp-content/uploads/sites/8864/2025/04/Thanksgiving-To-Go-NAL.jpg
END:VEVENT
BEGIN:VEVENT
DTSTART;TZID=America/New_York:20251126T183000
DTEND;TZID=America/New_York:20251126T200000
DTSTAMP:20260421T212115
CREATED:20250829T182554Z
LAST-MODIFIED:20250829T182554Z
UID:10001373-1764181800-1764187200@www.newalbanylinks.com
SUMMARY:Trivia in the Pub- Open to the Public!
DESCRIPTION:Trivia Night at the Links Pub🕡 6:30 PM – 8:00 PM \nPut your knowledge to the test at our lively Trivia Nights! Gather your team\, enjoy great food and drinks\, and compete in a fun\, fast-paced evening where champions are crowned and memories are made. \n💡 Open to all members and guests—don’t miss out on the fun!
URL:https://www.newalbanylinks.com/event/trivia-in-the-pub-open-to-the-public/2025-11-26/
CATEGORIES:Pub
ATTACH;FMTTYPE=image/jpeg:https://www.newalbanylinks.com/wp-content/uploads/sites/8864/2025/08/January.jpg
END:VEVENT
END:VCALENDAR