BEGIN:VCALENDAR
VERSION:2.0
PRODID:-//New Albany Links Golf Club - ECPv6.15.18//NONSGML v1.0//EN
CALSCALE:GREGORIAN
METHOD:PUBLISH
X-ORIGINAL-URL:https://www.newalbanylinks.com
X-WR-CALDESC:Events for New Albany Links Golf Club
REFRESH-INTERVAL;VALUE=DURATION:PT1H
X-Robots-Tag:noindex
X-PUBLISHED-TTL:PT1H
BEGIN:VTIMEZONE
TZID:America/New_York
BEGIN:DAYLIGHT
TZOFFSETFROM:-0500
TZOFFSETTO:-0400
TZNAME:EDT
DTSTART:20240310T070000
END:DAYLIGHT
BEGIN:STANDARD
TZOFFSETFROM:-0400
TZOFFSETTO:-0500
TZNAME:EST
DTSTART:20241103T060000
END:STANDARD
BEGIN:DAYLIGHT
TZOFFSETFROM:-0500
TZOFFSETTO:-0400
TZNAME:EDT
DTSTART:20250309T070000
END:DAYLIGHT
BEGIN:STANDARD
TZOFFSETFROM:-0400
TZOFFSETTO:-0500
TZNAME:EST
DTSTART:20251102T060000
END:STANDARD
BEGIN:DAYLIGHT
TZOFFSETFROM:-0500
TZOFFSETTO:-0400
TZNAME:EDT
DTSTART:20260308T070000
END:DAYLIGHT
BEGIN:STANDARD
TZOFFSETFROM:-0400
TZOFFSETTO:-0500
TZNAME:EST
DTSTART:20261101T060000
END:STANDARD
END:VTIMEZONE
BEGIN:VEVENT
DTSTART;TZID=America/New_York:20250831T110000
DTEND;TZID=America/New_York:20250831T140000
DTSTAMP:20260423T151050
CREATED:20250408T201027Z
LAST-MODIFIED:20250430T203645Z
UID:10001132-1756638000-1756648800@www.newalbanylinks.com
SUMMARY:Labor Day Cookout- Member & Member Guests
DESCRIPTION:🍔 Labor Day Cookout & 2nd Annual Cardboard Boat Regatta\nDate: Sunday\, August 31st\, 2025Cookout Time: 11:00 AM – 2:00 PM (under the tent)Regatta Time: 2:00 PM (at the pool)Location: New Albany LinksCost: Complimentary for Social Members | $15 per Member Guest (paid at check-in) \nCelebrate Labor Day with an afternoon full of food\, fun\, and friendly competition! Start with a delicious cookout under the tent\, then stick around for the excitement of our 2nd Annual Cardboard Boat Regatta at the pool. \nCookout Features:• Buffet with BBQ ribs\, hot dogs\, baked beans\, pasta salad\, cole slaw\, watermelon & desserts• Bounce House• Refreshments & Cash Bar• Pool opens at 11:00 AM \nCardboard Boat Regatta – Race Begins at 2:00 PM:• Boats must be built ahead of time using only cardboard and duct/gorilla tape• Teams can have 1–10 participants\, with 1–2 people racing each boat• Life jackets required during race• Prize: Pizza party for the winning team (to be scheduled on a later date)• Open to Social Members and their guests \n📧 RSVP required: \n\n\nTo RSVP for the event or register your team for the regatta\, email Shannon at sriffe@kempersports.com
URL:https://www.newalbanylinks.com/event/member-labor-day-party/
LOCATION:New Albany Links
CATEGORIES:Events,Member Only,Pool
ATTACH;FMTTYPE=image/jpeg:https://www.newalbanylinks.com/wp-content/uploads/sites/8864/2025/04/Labor-Day-Cookout-Regatta-2025.jpg
END:VEVENT
BEGIN:VEVENT
DTSTART;TZID=America/New_York:20250831T140000
DTEND;TZID=America/New_York:20250831T160000
DTSTAMP:20260423T151050
CREATED:20250408T201115Z
LAST-MODIFIED:20250430T203835Z
UID:10001133-1756648800-1756656000@www.newalbanylinks.com
SUMMARY:2nd Annual Cardboard Boat Regatta- Member & Member Guest Only
DESCRIPTION:🛶 2nd Annual Cardboard Boat Regatta\nDate: Sunday\, August 31st\, 2025Race Time: 2:00 PM (following the cookout)Location: New Albany Links PoolTeam Registration Deadline: August 24th\, 2025Eligibility: Open to Social Members and their Guests \nJoin us for a wild and creative competition on water! Teams will race homemade boats made entirely from cardboard and duct tape in our second annual regatta. \nRace Rules & Highlights:• Boats must be fully built beforehand using only cardboard and duct/ gorilla tape• 1–2 people per boat (life jackets required)• Teams of 1–10 participants• Prize: Pizza Party for the Winning Team (to be scheduled at a later date)• Fun\, laughter\, and bragging rights guaranteed! \n📧 To register your team\, email sriffe@kempersports.com with your team name and list of participants.
URL:https://www.newalbanylinks.com/event/2nd-annual-cardboard-boat-regatta/
LOCATION:New Albany Links
CATEGORIES:Events,Member Only,Pool
ATTACH;FMTTYPE=image/jpeg:https://www.newalbanylinks.com/wp-content/uploads/sites/8864/2025/04/NAL-Cardboard-boat-regatta.jpg
END:VEVENT
END:VCALENDAR