BEGIN:VCALENDAR
VERSION:2.0
PRODID:-//New Albany Links Golf Club - ECPv6.15.18//NONSGML v1.0//EN
CALSCALE:GREGORIAN
METHOD:PUBLISH
X-WR-CALNAME:New Albany Links Golf Club
X-ORIGINAL-URL:https://www.newalbanylinks.com
X-WR-CALDESC:Events for New Albany Links Golf Club
REFRESH-INTERVAL;VALUE=DURATION:PT1H
X-Robots-Tag:noindex
X-PUBLISHED-TTL:PT1H
BEGIN:VTIMEZONE
TZID:America/New_York
BEGIN:DAYLIGHT
TZOFFSETFROM:-0500
TZOFFSETTO:-0400
TZNAME:EDT
DTSTART:20240310T070000
END:DAYLIGHT
BEGIN:STANDARD
TZOFFSETFROM:-0400
TZOFFSETTO:-0500
TZNAME:EST
DTSTART:20241103T060000
END:STANDARD
BEGIN:DAYLIGHT
TZOFFSETFROM:-0500
TZOFFSETTO:-0400
TZNAME:EDT
DTSTART:20250309T070000
END:DAYLIGHT
BEGIN:STANDARD
TZOFFSETFROM:-0400
TZOFFSETTO:-0500
TZNAME:EST
DTSTART:20251102T060000
END:STANDARD
BEGIN:DAYLIGHT
TZOFFSETFROM:-0500
TZOFFSETTO:-0400
TZNAME:EDT
DTSTART:20260308T070000
END:DAYLIGHT
BEGIN:STANDARD
TZOFFSETFROM:-0400
TZOFFSETTO:-0500
TZNAME:EST
DTSTART:20261101T060000
END:STANDARD
END:VTIMEZONE
BEGIN:VEVENT
DTSTART;TZID=America/New_York:20250711T180000
DTEND;TZID=America/New_York:20250711T210000
DTSTAMP:20260425T125336
CREATED:20250408T193708Z
LAST-MODIFIED:20250429T181453Z
UID:10001087-1752256800-1752267600@www.newalbanylinks.com
SUMMARY:Live Music - Dan Stambaugh
DESCRIPTION:Join us for Live Music on the Patio on July 11th from 6:00pm-9:00pm\n\n-Live Music by Dan Stambaugh-Kitchen will be open until 9:00pm-The Pub will be open until 10:00pm\n\nFor more information\, call 614-855-8532
URL:https://www.newalbanylinks.com/event/live-music-dan-stambaugh/
LOCATION:New Albany Links
ATTACH;FMTTYPE=image/jpeg:https://www.newalbanylinks.com/wp-content/uploads/sites/8864/2025/04/4-1.jpg
END:VEVENT
BEGIN:VEVENT
DTSTART;TZID=America/New_York:20250711T200000
DTEND;TZID=America/New_York:20250711T230000
DTSTAMP:20260425T125336
CREATED:20250408T193526Z
LAST-MODIFIED:20250521T143206Z
UID:10001085-1752264000-1752274800@www.newalbanylinks.com
SUMMARY:Family Movie Night at the Pool- Member & Member Guest Only
DESCRIPTION:You’re Invited to a Magical Movie Night at the Pool! \nGet ready for an unforgettable evening under the stars at our Dive-In Movie Night\, featuring the heartwarming and hilarious Disney•Pixar film\, “Turning Red”! \n📅 Friday\, July 11th\, 2025🕗 8:00 PM | Movie starts at dusk📍 New Albany Links Pool \nWhat to Expect:• Games• Music• Fun for the whole family! \nWhat to Bring:• Your favorite floaty• Family & friends• A sense of adventure \nThe concession stand will be open with snacks and drinks available to make your night even better! \n🎟  Cost: Complimentary for members and $10 per guest (charged to your member account) \n📩 RSVP to Shannon at sriffe@kempersports.com \nThis event is for New Albany Links Social Members & their guests only. Space is limited — be sure to register early! \nWe’ll see you poolside!
URL:https://www.newalbanylinks.com/event/family-movie-night-at-the-pool-3/
LOCATION:New Albany Links
ATTACH;FMTTYPE=image/jpeg:https://www.newalbanylinks.com/wp-content/uploads/sites/8864/2025/04/7.7-1.jpg
END:VEVENT
END:VCALENDAR