BEGIN:VCALENDAR
VERSION:2.0
PRODID:-//New Albany Links Golf Club - ECPv6.15.18//NONSGML v1.0//EN
CALSCALE:GREGORIAN
METHOD:PUBLISH
X-WR-CALNAME:New Albany Links Golf Club
X-ORIGINAL-URL:https://www.newalbanylinks.com
X-WR-CALDESC:Events for New Albany Links Golf Club
REFRESH-INTERVAL;VALUE=DURATION:PT1H
X-Robots-Tag:noindex
X-PUBLISHED-TTL:PT1H
BEGIN:VTIMEZONE
TZID:America/New_York
BEGIN:DAYLIGHT
TZOFFSETFROM:-0500
TZOFFSETTO:-0400
TZNAME:EDT
DTSTART:20230312T070000
END:DAYLIGHT
BEGIN:STANDARD
TZOFFSETFROM:-0400
TZOFFSETTO:-0500
TZNAME:EST
DTSTART:20231105T060000
END:STANDARD
BEGIN:DAYLIGHT
TZOFFSETFROM:-0500
TZOFFSETTO:-0400
TZNAME:EDT
DTSTART:20240310T070000
END:DAYLIGHT
BEGIN:STANDARD
TZOFFSETFROM:-0400
TZOFFSETTO:-0500
TZNAME:EST
DTSTART:20241103T060000
END:STANDARD
BEGIN:DAYLIGHT
TZOFFSETFROM:-0500
TZOFFSETTO:-0400
TZNAME:EDT
DTSTART:20250309T070000
END:DAYLIGHT
BEGIN:STANDARD
TZOFFSETFROM:-0400
TZOFFSETTO:-0500
TZNAME:EST
DTSTART:20251102T060000
END:STANDARD
END:VTIMEZONE
BEGIN:VEVENT
DTSTART;TZID=America/New_York:20241121T170000
DTEND;TZID=America/New_York:20241121T190000
DTSTAMP:20260425T201857
CREATED:20241115T144151Z
LAST-MODIFIED:20241115T145740Z
UID:10000998-1732208400-1732215600@www.newalbanylinks.com
SUMMARY:Golf Member & Prospective Golf Member Open House
DESCRIPTION:You’re Invited: Columbus Collective Golf Member & Prospective Golf Member Open House \nWe’re excited to invite you to an evening of connection\, information\, and inspiration as we celebrate all things Columbus Collective. These events are designed for current members who want to ask questions\, provide feedback\, and learn more about upcoming plans\, as well as for prospective members considering joining our growing community! \nDate: Thursday\, November  21st\, 2024\nTime: 5:00 PM – 7:00 PM\nLocation: New Albany Links – Ballroom \nEnjoy complimentary drinks and light hors d’oeuvres as you: \n\nMeet our new Regional Superintendent\, Adam Zevchik\nChat with our KemperSports Columbus Collective team\nConnect with fellow members and those interested in joining\nLearn about our 2025 Memberships and all the benefits of being part of the Columbus Collective\nAsk questions about what’s ahead for 2025\n\nClick HERE for 2025 Membership information. \nWe welcome your questions\, feedback\, and comradery and we can’t wait to connect with you!
URL:https://www.newalbanylinks.com/event/golf-member-prospective-golf-member-open-house/
CATEGORIES:Events
ATTACH;FMTTYPE=image/jpeg:https://www.newalbanylinks.com/wp-content/uploads/sites/8864/2024/11/Golf-Member-Prospective-Golf-Member-Open-Houses-Flyer-New-Albany-ONly-for-their-calendar.jpg
END:VEVENT
END:VCALENDAR