BEGIN:VCALENDAR
VERSION:2.0
PRODID:-//New Albany Links Golf Club - ECPv6.15.18//NONSGML v1.0//EN
CALSCALE:GREGORIAN
METHOD:PUBLISH
X-ORIGINAL-URL:https://www.newalbanylinks.com
X-WR-CALDESC:Events for New Albany Links Golf Club
REFRESH-INTERVAL;VALUE=DURATION:PT1H
X-Robots-Tag:noindex
X-PUBLISHED-TTL:PT1H
BEGIN:VTIMEZONE
TZID:America/New_York
BEGIN:DAYLIGHT
TZOFFSETFROM:-0500
TZOFFSETTO:-0400
TZNAME:EDT
DTSTART:20230312T070000
END:DAYLIGHT
BEGIN:STANDARD
TZOFFSETFROM:-0400
TZOFFSETTO:-0500
TZNAME:EST
DTSTART:20231105T060000
END:STANDARD
BEGIN:DAYLIGHT
TZOFFSETFROM:-0500
TZOFFSETTO:-0400
TZNAME:EDT
DTSTART:20240310T070000
END:DAYLIGHT
BEGIN:STANDARD
TZOFFSETFROM:-0400
TZOFFSETTO:-0500
TZNAME:EST
DTSTART:20241103T060000
END:STANDARD
BEGIN:DAYLIGHT
TZOFFSETFROM:-0500
TZOFFSETTO:-0400
TZNAME:EDT
DTSTART:20250309T070000
END:DAYLIGHT
BEGIN:STANDARD
TZOFFSETFROM:-0400
TZOFFSETTO:-0500
TZNAME:EST
DTSTART:20251102T060000
END:STANDARD
END:VTIMEZONE
BEGIN:VEVENT
DTSTART;TZID=America/New_York:20241018T180000
DTEND;TZID=America/New_York:20241018T200000
DTSTAMP:20260425T214155
CREATED:20240905T175204Z
LAST-MODIFIED:20240924T143703Z
UID:10000824-1729274400-1729281600@www.newalbanylinks.com
SUMMARY:Tay Tay Par-Tay Family Event
DESCRIPTION:Tay Tay Par-Tay- New Albany Links \n  \nJoin Us for an Unforgettable Night at our Tay Tay Par-Tay – October 18th! \nPrepare to enter a world of pop-star magic! Enjoy a performance by a pop impersonator\, strike a pose with photo ops\, sing and dance to some sick beats. Don’t miss out on this extravaganza – it’s going to be unforgettable! \n  \nLocation: New Albany Links Golf Club \nDate: Friday\, October 18th\, 2024 \nTime: 6:00 pm-8:00 pm \n\nDoors open at 5:45 PM\nThemed Dinner Buffet at 6:00 PM\nPop Impersonator Arrives at 6:30 PM\nEvent Concludes at 8:00 PM\n\nCost: $35 per Person (includes tax and service charge) \nDetails:  \n\nPop Impersonator\nMusic\, Dancing & Karaoke\nPhoto Opportunities\nFriendship Bracelets and Trading\nThemed Dinner Buffet\nCome Dressed in your Favorite Era!\n\n  \nClick HERE to get registered. \n  \nMembers and non-members welcome. Space is Limited. Get Registered today! \n 
URL:https://www.newalbanylinks.com/event/tay-tay-par-tay/
LOCATION:New Albany Links
CATEGORIES:Events
ATTACH;FMTTYPE=image/jpeg:https://www.newalbanylinks.com/wp-content/uploads/sites/8864/2024/09/Tay-Tay-Par-Tay-Flyer.jpg
END:VEVENT
END:VCALENDAR