BEGIN:VCALENDAR
VERSION:2.0
PRODID:-//New Albany Links Golf Club - ECPv6.15.18//NONSGML v1.0//EN
CALSCALE:GREGORIAN
METHOD:PUBLISH
X-ORIGINAL-URL:https://www.newalbanylinks.com
X-WR-CALDESC:Events for New Albany Links Golf Club
REFRESH-INTERVAL;VALUE=DURATION:PT1H
X-Robots-Tag:noindex
X-PUBLISHED-TTL:PT1H
BEGIN:VTIMEZONE
TZID:America/New_York
BEGIN:DAYLIGHT
TZOFFSETFROM:-0500
TZOFFSETTO:-0400
TZNAME:EDT
DTSTART:20230312T070000
END:DAYLIGHT
BEGIN:STANDARD
TZOFFSETFROM:-0400
TZOFFSETTO:-0500
TZNAME:EST
DTSTART:20231105T060000
END:STANDARD
BEGIN:DAYLIGHT
TZOFFSETFROM:-0500
TZOFFSETTO:-0400
TZNAME:EDT
DTSTART:20240310T070000
END:DAYLIGHT
BEGIN:STANDARD
TZOFFSETFROM:-0400
TZOFFSETTO:-0500
TZNAME:EST
DTSTART:20241103T060000
END:STANDARD
BEGIN:DAYLIGHT
TZOFFSETFROM:-0500
TZOFFSETTO:-0400
TZNAME:EDT
DTSTART:20250309T070000
END:DAYLIGHT
BEGIN:STANDARD
TZOFFSETFROM:-0400
TZOFFSETTO:-0500
TZNAME:EST
DTSTART:20251102T060000
END:STANDARD
END:VTIMEZONE
BEGIN:VEVENT
DTSTART;TZID=America/New_York:20240913T180000
DTEND;TZID=America/New_York:20240913T180000
DTSTAMP:20260425T230806
CREATED:20240816T132716Z
LAST-MODIFIED:20240828T165835Z
UID:10000821-1726250400-1726250400@www.newalbanylinks.com
SUMMARY:Nine & Wine Couples Golf
DESCRIPTION:Join Us for Nine & Wine Couples Golf at New Albany Links! 🍷⛳ \nWe are excited to invite you to our upcoming Nine & Wine Couples Golf event at New Albany Links Golf Club! It’s the perfect way to enjoy a beautiful evening of golf\, great food\, and even better company. \nDate: Friday\, September 13th \nTime: 5:30 pm Shotgun \nCost: $60 Per Couple \nIncludes: \n\n9 Holes of Golf Cart\nHeavy Appetizers after Golf\n1 Drink Token for After Golf\nGames & Prizes\n$60 Per Couple\n\nRegistration: Click HERE to register. \nThis event is sure to be a delightful experience\, combining the love of golf with a relaxed and social atmosphere. Don’t miss out on this opportunity to enjoy a memorable evening at the club! \nWe look forward to seeing you there!
URL:https://www.newalbanylinks.com/event/nine-wine-couples-golf/
ATTACH;FMTTYPE=image/jpeg:https://www.newalbanylinks.com/wp-content/uploads/sites/8864/2024/08/NAL-Nine-and-Wine-Flyer-UPDATED-TIME.jpg
END:VEVENT
END:VCALENDAR